


BEGIN:VCALENDAR
VERSION:2.0
PRODID:-//The Gunners&#039; Association of South Africa - ECPv6.2.0//NONSGML v1.0//EN
CALSCALE:GREGORIAN
METHOD:PUBLISH
X-WR-CALNAME:The Gunners&#039; Association of South Africa
X-ORIGINAL-URL:https://www.gunners.org.za
X-WR-CALDESC:Events for The Gunners&#039; Association of South Africa
REFRESH-INTERVAL;VALUE=DURATION:PT1H
X-Robots-Tag:noindex
X-PUBLISHED-TTL:PT1H
BEGIN:VTIMEZONE
TZID:Africa/Johannesburg
BEGIN:STANDARD
TZOFFSETFROM:+0200
TZOFFSETTO:+0200
TZNAME:SAST
DTSTART:20250101T000000
END:STANDARD
END:VTIMEZONE
BEGIN:VEVENT
DTSTART;TZID=Africa/Johannesburg:20250607T120000
DTEND;TZID=Africa/Johannesburg:20250607T170000
DTSTAMP:20260420T024026
CREATED:20241212T080244Z
LAST-MODIFIED:20250129T180914Z
UID:7382-1749297600-1749315600@www.gunners.org.za
SUMMARY:Vereeniging Branch Winter Function
DESCRIPTION:Venue and cost will be communicated closer to the time.
URL:https://www.gunners.org.za/event/vereeniging-branch-winter-function/
LOCATION:North West
CATEGORIES:Branch Lunches
ORGANIZER;CN="Gnr%20Renier%20Henning":MAILTO:jr.henning17@gmail.com
END:VEVENT
BEGIN:VEVENT
DTSTART;TZID=Africa/Johannesburg:20250613T120000
DTEND;TZID=Africa/Johannesburg:20250613T170000
DTSTAMP:20260420T024026
CREATED:20250129T180118Z
LAST-MODIFIED:20250417T153256Z
UID:7489-1749816000-1749834000@www.gunners.org.za
SUMMARY:Johannesburg Branch Monthly Lunch - Venue to be confirmed
DESCRIPTION:
URL:https://www.gunners.org.za/event/johannesburg-branch-monthly-lunch-venue-to-be-confirmed-4/
LOCATION:North West
CATEGORIES:Branch Lunches
ORGANIZER;CN="Trevor%20Taute":MAILTO:taute01@gmail.com
END:VEVENT
BEGIN:VEVENT
DTSTART;TZID=Africa/Johannesburg:20250704T120000
DTEND;TZID=Africa/Johannesburg:20250704T170000
DTSTAMP:20260420T024026
CREATED:20250129T180243Z
LAST-MODIFIED:20250702T151116Z
UID:7490-1751630400-1751648400@www.gunners.org.za
SUMMARY:Johannesburg Branch Monthly Lunch - Ridge Park Sports Club
DESCRIPTION:
URL:https://www.gunners.org.za/event/johannesburg-branch-monthly-lunch-venue-to-be-confirmed-5/
LOCATION:North West
CATEGORIES:Branch Lunches
ORGANIZER;CN="Trevor%20Taute":MAILTO:taute01@gmail.com
END:VEVENT
BEGIN:VEVENT
DTSTART;TZID=Africa/Johannesburg:20250801T080000
DTEND;TZID=Africa/Johannesburg:20250801T170000
DTSTAMP:20260420T024026
CREATED:20250129T180316Z
LAST-MODIFIED:20250129T180316Z
UID:7491-1754035200-1754067600@www.gunners.org.za
SUMMARY:Johannesburg Branch Monthly Lunch - Venue to be confirmed
DESCRIPTION:
URL:https://www.gunners.org.za/event/johannesburg-branch-monthly-lunch-venue-to-be-confirmed-6/
LOCATION:North West
CATEGORIES:Branch Lunches
ORGANIZER;CN="Trevor%20Taute":MAILTO:taute01@gmail.com
END:VEVENT
BEGIN:VEVENT
DTSTART;TZID=Africa/Johannesburg:20250905T120000
DTEND;TZID=Africa/Johannesburg:20250905T170000
DTSTAMP:20260420T024026
CREATED:20250129T180352Z
LAST-MODIFIED:20250129T180352Z
UID:7492-1757073600-1757091600@www.gunners.org.za
SUMMARY:Johannesburg Branch Monthly Lunch - Venue to be confirmed
DESCRIPTION:
URL:https://www.gunners.org.za/event/johannesburg-branch-monthly-lunch-venue-to-be-confirmed-7/
LOCATION:North West
CATEGORIES:Branch Lunches
ORGANIZER;CN="Trevor%20Taute":MAILTO:taute01@gmail.com
END:VEVENT
BEGIN:VEVENT
DTSTART;TZID=Africa/Johannesburg:20251003T080000
DTEND;TZID=Africa/Johannesburg:20251003T170000
DTSTAMP:20260420T024026
CREATED:20250129T180426Z
LAST-MODIFIED:20250129T180426Z
UID:7493-1759478400-1759510800@www.gunners.org.za
SUMMARY:Johannesburg Branch Monthly Lunch - Venue to be confirmed
DESCRIPTION:
URL:https://www.gunners.org.za/event/johannesburg-branch-monthly-lunch-venue-to-be-confirmed-8/
LOCATION:North West
CATEGORIES:Branch Lunches
ORGANIZER;CN="Trevor%20Taute":MAILTO:taute01@gmail.com
END:VEVENT
BEGIN:VEVENT
DTSTART;TZID=Africa/Johannesburg:20251108T120000
DTEND;TZID=Africa/Johannesburg:20251108T170000
DTSTAMP:20260420T024026
CREATED:20241212T081226Z
LAST-MODIFIED:20241212T081226Z
UID:7383-1762603200-1762621200@www.gunners.org.za
SUMMARY:Vereeniging Branch Year End Function
DESCRIPTION:Venue and cost to be confirmed
URL:https://www.gunners.org.za/event/vereeniging-branch-year-end-function/
LOCATION:North West
CATEGORIES:Branch Lunches
ORGANIZER;CN="Gnr%20Renier%20Henning":MAILTO:jr.henning17@gmail.com
END:VEVENT
BEGIN:VEVENT
DTSTART;TZID=Africa/Johannesburg:20260606T080000
DTEND;TZID=Africa/Johannesburg:20260606T130000
DTSTAMP:20260420T024026
CREATED:20260409T132235Z
LAST-MODIFIED:20260409T132235Z
UID:7797-1780732800-1780750800@www.gunners.org.za
SUMMARY:BOT Meeting at GEM Village in Pretoria
DESCRIPTION:
URL:https://www.gunners.org.za/event/bot-meeting-at-gem-village-in-pretoria/
LOCATION:Gem Village\, 53 Jan Smuts Ave\, Centurion\, Pretoris\, Gauteng\, South Africa
CATEGORIES:Branch Lunches,Gunners' Events,National Events
END:VEVENT
END:VCALENDAR