


BEGIN:VCALENDAR
VERSION:2.0
PRODID:-//The Gunners&#039; Association of South Africa - ECPv6.2.0//NONSGML v1.0//EN
CALSCALE:GREGORIAN
METHOD:PUBLISH
X-ORIGINAL-URL:https://www.gunners.org.za
X-WR-CALDESC:Events for The Gunners&#039; Association of South Africa
REFRESH-INTERVAL;VALUE=DURATION:PT1H
X-Robots-Tag:noindex
X-PUBLISHED-TTL:PT1H
BEGIN:VTIMEZONE
TZID:Africa/Johannesburg
BEGIN:STANDARD
TZOFFSETFROM:+0200
TZOFFSETTO:+0200
TZNAME:SAST
DTSTART:20250101T000000
END:STANDARD
END:VTIMEZONE
BEGIN:VEVENT
DTSTART;VALUE=DATE:20251102
DTEND;VALUE=DATE:20251103
DTSTAMP:20260422T232508
CREATED:20250630T080308Z
LAST-MODIFIED:20250905T134158Z
UID:7628-1762041600-1762127999@www.gunners.org.za
SUMMARY:SA National Museum of Military History - Launch of new exhibits
DESCRIPTION:
URL:https://www.gunners.org.za/event/sa-national-museum-of-military-history-launch-of-new-exhibits/
LOCATION:Ditsong Museum of Military History\, Erlswood way\, Saxonwold\, Johannesburg\, Johannesburg\, Gauteng\, 2192\, South Africa
CATEGORIES:Gunners' Events,National Events
ATTACH;FMTTYPE=image/jpeg:https://www.gunners.org.za/wp-content/uploads/2025/06/2-Nov-Flyer-2025.jpg
ORGANIZER;CN="Albert%20Pestana":MAILTO:albertdaniel@pestana.me
END:VEVENT
END:VCALENDAR