


BEGIN:VCALENDAR
VERSION:2.0
PRODID:-//The Gunners&#039; Association of South Africa - ECPv6.2.0//NONSGML v1.0//EN
CALSCALE:GREGORIAN
METHOD:PUBLISH
X-WR-CALNAME:The Gunners&#039; Association of South Africa
X-ORIGINAL-URL:https://www.gunners.org.za
X-WR-CALDESC:Events for The Gunners&#039; Association of South Africa
REFRESH-INTERVAL;VALUE=DURATION:PT1H
X-Robots-Tag:noindex
X-PUBLISHED-TTL:PT1H
BEGIN:VTIMEZONE
TZID:Africa/Johannesburg
BEGIN:STANDARD
TZOFFSETFROM:+0200
TZOFFSETTO:+0200
TZNAME:SAST
DTSTART:20250101T000000
END:STANDARD
END:VTIMEZONE
BEGIN:VEVENT
DTSTART;TZID=Africa/Johannesburg:20251115T083000
DTEND;TZID=Africa/Johannesburg:20251115T170000
DTSTAMP:20260422T232348
CREATED:20250730T163922Z
LAST-MODIFIED:20250901T072705Z
UID:7641-1763195400-1763226000@www.gunners.org.za
SUMMARY:BOT and AGM Meeting - SA NATIONAL MUSEUM OF MILITARY HISTORY
DESCRIPTION:Please see below notice of the upcoming BoT and AGM Saturday 15 November 08h30 for 09h00.\n\nVenue:     The South African National Museum of Military History.\nAddress:   22 Erlswold Way\, Johannesburg\, 2132.\nTime:        08h30 for 09h00.\n\nWe will have a walkabout of the Museum after the meeting.\n\nLunch:      A finger lunch will be served at MOTH HALL Parkhurst\, Cnr 2 and 16 Avenue Parkhurst.\nCost:        R70.00 per head.\nBar:          Drinks for own account.
URL:https://www.gunners.org.za/event/bot-and-agm-meeting-sa-national-museum-of-military-history/
LOCATION:Ditsong Museum of Military History\, Erlswood way\, Saxonwold\, Johannesburg\, Johannesburg\, Gauteng\, 2192\, South Africa
CATEGORIES:Gunners' Events,National Events
END:VEVENT
END:VCALENDAR