


BEGIN:VCALENDAR
VERSION:2.0
PRODID:-//The Gunners&#039; Association of South Africa - ECPv6.2.0//NONSGML v1.0//EN
CALSCALE:GREGORIAN
METHOD:PUBLISH
X-WR-CALNAME:The Gunners&#039; Association of South Africa
X-ORIGINAL-URL:https://www.gunners.org.za
X-WR-CALDESC:Events for The Gunners&#039; Association of South Africa
REFRESH-INTERVAL;VALUE=DURATION:PT1H
X-Robots-Tag:noindex
X-PUBLISHED-TTL:PT1H
BEGIN:VTIMEZONE
TZID:Africa/Johannesburg
BEGIN:STANDARD
TZOFFSETFROM:+0200
TZOFFSETTO:+0200
TZNAME:SAST
DTSTART:20250101T000000
END:STANDARD
END:VTIMEZONE
BEGIN:VEVENT
DTSTART;TZID=Africa/Johannesburg:20251123T080000
DTEND;TZID=Africa/Johannesburg:20251123T170000
DTSTAMP:20260422T174754
CREATED:20251102T074626Z
LAST-MODIFIED:20251102T074626Z
UID:7683-1763884800-1763917200@www.gunners.org.za
SUMMARY:Sidi Rezegh Parade at SANMMH
DESCRIPTION:
URL:https://www.gunners.org.za/event/sidi-rezegh-parade-at-sanmmh/
LOCATION:Ditsong Museum of Military History\, Erlswood way\, Saxonwold\, Johannesburg\, Johannesburg\, Gauteng\, 2192\, South Africa
CATEGORIES:Gunners' Events,National Events
END:VEVENT
END:VCALENDAR